BEGIN:VCALENDAR
PRODID:-//eluceo/ical//2.0/EN
VERSION:2.0
CALSCALE:GREGORIAN
BEGIN:VEVENT
UID:event-785
DTSTAMP:20260425T160416Z
SUMMARY:Academy: ESG
DESCRIPTION:This academy introduces the fundamentals of Environmental\, Soc
 ial\, and Governance (ESG) and its growing role in finance. Participants w
 ill learn what ESG entails and explore key concepts such as the EU Taxonom
 y\, carbon credits\, green and social bonds\, and the challenges surroundi
 ng greenwashing. By the end of the academy\, participants will have a clea
 r overview of the ESG landscape and its relevance for financial markets an
 d investment decisions.
DTSTART:20260326T160000Z
DTEND:20260326T174500Z
END:VEVENT
BEGIN:VTIMEZONE
TZID:UTC
BEGIN:STANDARD
DTSTART:20260326T160000
TZNAME:UTC
TZOFFSETTO:+0000
TZOFFSETFROM:+0000
END:STANDARD
END:VTIMEZONE
END:VCALENDAR
