BEGIN:VCALENDAR
PRODID:-//eluceo/ical//2.0/EN
VERSION:2.0
CALSCALE:GREGORIAN
BEGIN:VEVENT
UID:event-788
DTSTAMP:20260425T160618Z
SUMMARY:Women In Business Days
DESCRIPTION:Women in Business Days is an event exclusively designed for amb
 itious female students like yourself with an interest in the Finance indus
 try. From April 7 to April 10\, 2026\, we offer interactive workshops\, i
 n-house days\, networking drinks\, and company dinners. Whether you’re l
 ooking for an internship\, (student) job possibilities\, or if you want to
  learn and experience more in the Finance industry\, we've got you!  Are 
 you eager to connect with like-minded women and explore opportunities in t
 he business world? https://www.womeninbusinessdays.com/
DTSTART:20260407T070000Z
DTEND:20260410T190000Z
END:VEVENT
BEGIN:VTIMEZONE
TZID:UTC
BEGIN:STANDARD
DTSTART:20260407T070000
TZNAME:UTC
TZOFFSETTO:+0000
TZOFFSETFROM:+0000
END:STANDARD
END:VTIMEZONE
END:VCALENDAR
