BEGIN:VCALENDAR
PRODID:-//eluceo/ical//2.0/EN
VERSION:2.0
CALSCALE:GREGORIAN
BEGIN:VEVENT
UID:event-824
DTSTAMP:20260425T160629Z
SUMMARY:Morgan Stanley Investment Banking Event & Networking Drink (Dutch O
 nly)
DESCRIPTION:During this exclusive event\, you will have the unique opportun
 ity to meet investment bankers from the London team of Morgan Stanley. Thi
 s is your chance to gain first-hand insights into the firm\, its culture\,
  and what it takes to succeed at one of the world’s leading investment b
 anks. We will begin with a workshop designed to strengthen your understand
 ing of investment banking. Afterwards\, there will be time to network over
  drinks\, giving you the opportunity to ask questions\, build meaningful c
 onnections\, and learn more about career opportunities at the firm.
DTSTART:20260323T153000Z
DTEND:20260323T180000Z
END:VEVENT
BEGIN:VTIMEZONE
TZID:UTC
BEGIN:STANDARD
DTSTART:20260323T153000
TZNAME:UTC
TZOFFSETTO:+0000
TZOFFSETFROM:+0000
END:STANDARD
END:VTIMEZONE
END:VCALENDAR
