BEGIN:VCALENDAR
PRODID:-//eluceo/ical//2.0/EN
VERSION:2.0
CALSCALE:GREGORIAN
BEGIN:VEVENT
UID:event-836
DTSTAMP:20260425T160552Z
SUMMARY:Professional Academy: ESG
DESCRIPTION:🚀 Professional Academy: ESG | 2 April Join us for the final 
 Professional Academy of the year\, and we’re closing it with a big one 
 🔥 This Thursday (17:00–18:45\, Mandeville T3-35)\, dive into the fast
 -growing world of ESG and sustainable investing 🌱📊 🎤 Ivo Kuiper (
 Head of Sustainable Investment Management at Cardano/Mercer | ex-Van Lansc
 hot Kempen) One of the leading experts in sustainable investing\, with top
 -tier industry experience. Don’t miss the chance to learn directly from 
 him. ⏰ Secure your spot now!
DTSTART:20260402T150000Z
DTEND:20260402T164500Z
END:VEVENT
BEGIN:VTIMEZONE
TZID:UTC
BEGIN:STANDARD
DTSTART:20260402T150000
TZNAME:UTC
TZOFFSETTO:+0000
TZOFFSETFROM:+0000
END:STANDARD
END:VTIMEZONE
END:VCALENDAR
