BEGIN:VCALENDAR
PRODID:-//eluceo/ical//2.0/EN
VERSION:2.0
CALSCALE:GREGORIAN
BEGIN:VEVENT
UID:event-841
DTSTAMP:20260420T145721Z
SUMMARY:Movie Night: The Big Short
DESCRIPTION:Movie Night: The Big Short Join us for a screening of The Big S
 hort\, a compelling film about the 2008 financial crisis\, featuring perfo
 rmances by Christian Bale\, Steve Carell\, Ryan Gosling\, and Brad Pitt. L
 ocation: KINO Rotterdam Date &amp\; Time: Thursday\, 30 April\, 20:30 – 
 23:30 Tickets: €6.00 - includes 1 drink and 1 (small) snack Tickets go l
 ive this Tuesday at 16:00. Availability is limited.
DTSTART:20260430T181500Z
DTEND:20260430T213000Z
END:VEVENT
BEGIN:VTIMEZONE
TZID:UTC
BEGIN:STANDARD
DTSTART:20260430T181500
TZNAME:UTC
TZOFFSETTO:+0000
TZOFFSETFROM:+0000
END:STANDARD
END:VTIMEZONE
END:VCALENDAR
