BEGIN:VCALENDAR
PRODID:-//eluceo/ical//2.0/EN
VERSION:2.0
CALSCALE:GREGORIAN
BEGIN:VEVENT
UID:event-842
DTSTAMP:20260424T142523Z
SUMMARY:Almanac Sale 2026
DESCRIPTION:The Almanac sale opens Thursday\, April 23! Don’t miss this y
 ear’s edition\, filled with unforgettable moments. Copies are limited\, 
 so order yours quickly. You’ll receive an email when your Almanac is rea
 dy for pickup at the B&amp\;R Beurs office (P-1.074).
DTSTART:20260423T210000Z
DTEND:20260514T215900Z
END:VEVENT
BEGIN:VTIMEZONE
TZID:UTC
BEGIN:STANDARD
DTSTART:20260423T210000
TZNAME:UTC
TZOFFSETTO:+0000
TZOFFSETFROM:+0000
END:STANDARD
END:VTIMEZONE
END:VCALENDAR
